BEGIN:VCALENDAR
VERSION:2.0
PRODID:-//Grail&#039;Òli - ECPv6.15.20//NONSGML v1.0//EN
CALSCALE:GREGORIAN
METHOD:PUBLISH
X-ORIGINAL-URL:https://grailoli.fr
X-WR-CALDESC:Évènements pour Grail&#039;Òli
REFRESH-INTERVAL;VALUE=DURATION:PT1H
X-Robots-Tag:noindex
X-PUBLISHED-TTL:PT1H
BEGIN:VTIMEZONE
TZID:Europe/Paris
BEGIN:DAYLIGHT
TZOFFSETFROM:+0100
TZOFFSETTO:+0200
TZNAME:CEST
DTSTART:20230326T010000
END:DAYLIGHT
BEGIN:STANDARD
TZOFFSETFROM:+0200
TZOFFSETTO:+0100
TZNAME:CET
DTSTART:20231029T010000
END:STANDARD
BEGIN:DAYLIGHT
TZOFFSETFROM:+0100
TZOFFSETTO:+0200
TZNAME:CEST
DTSTART:20240331T010000
END:DAYLIGHT
BEGIN:STANDARD
TZOFFSETFROM:+0200
TZOFFSETTO:+0100
TZNAME:CET
DTSTART:20241027T010000
END:STANDARD
BEGIN:DAYLIGHT
TZOFFSETFROM:+0100
TZOFFSETTO:+0200
TZNAME:CEST
DTSTART:20250330T010000
END:DAYLIGHT
BEGIN:STANDARD
TZOFFSETFROM:+0200
TZOFFSETTO:+0100
TZNAME:CET
DTSTART:20251026T010000
END:STANDARD
END:VTIMEZONE
BEGIN:VEVENT
DTSTART;TZID=Europe/Paris:20240301T000000
DTEND;TZID=Europe/Paris:20240301T235900
DTSTAMP:20260419T212735
CREATED:20240306T161524Z
LAST-MODIFIED:20240306T162153Z
UID:1368-1709251200-1709337540@grailoli.fr
SUMMARY:Les Pétassous pour le carnaval de MIREVAL (34)
DESCRIPTION:Les Pétassous pour le carnaval de MIREVAL (34)
URL:https://grailoli.fr/evenement/les-petassous-pour-le-carnaval-de-mireval-34/
END:VEVENT
BEGIN:VEVENT
DTSTART;TZID=Europe/Paris:20240323T080000
DTEND;TZID=Europe/Paris:20240323T235900
DTSTAMP:20260419T212735
CREATED:20240306T162026Z
LAST-MODIFIED:20240306T163044Z
UID:1374-1711180800-1711238340@grailoli.fr
SUMMARY:Les Pétassous  pour le carnaval "Inter'Cal" MONTPELLIER (34)
DESCRIPTION:Les Pétassous pour le carnaval « Inter’Cal »\, MONTPELLIER (34)
URL:https://grailoli.fr/evenement/les-petassous-pour-le-carnaval-intercal-montpellier-34/
END:VEVENT
BEGIN:VEVENT
DTSTART;TZID=Europe/Paris:20240329T080000
DTEND;TZID=Europe/Paris:20240329T170000
DTSTAMP:20260419T212735
CREATED:20240306T162414Z
LAST-MODIFIED:20240306T163033Z
UID:1376-1711699200-1711731600@grailoli.fr
SUMMARY:Les Pétassous carnaval quartier Estanove MONTPELLIER (34)
DESCRIPTION:Les Pétassous en matinée pour un Carnaval d’école\, quartier Estanove\, MONTPELLIER (34)
URL:https://grailoli.fr/evenement/les-petassous-carnaval-quartier-estanove-montpellier-34/
END:VEVENT
BEGIN:VEVENT
DTSTART;TZID=Europe/Paris:20240330T080000
DTEND;TZID=Europe/Paris:20240330T170000
DTSTAMP:20260419T212735
CREATED:20240306T162550Z
LAST-MODIFIED:20240306T163014Z
UID:1378-1711785600-1711818000@grailoli.fr
SUMMARY:Les Pétassous Carnaval SAUSSAN (34)
DESCRIPTION:Les Pétassous en matinée pour le Carnaval du village avec son totem le « Coucaïrous »\, SAUSSAN (34)
URL:https://grailoli.fr/evenement/les-petassous-carnaval-saussan-34/
END:VEVENT
END:VCALENDAR